BEGIN:VCALENDAR
VERSION:2.0
PRODID:-//JETAABC - ECPv6.15.20//NONSGML v1.0//EN
CALSCALE:GREGORIAN
METHOD:PUBLISH
X-ORIGINAL-URL:https://jetaabc.ca
X-WR-CALDESC:Events for JETAABC
REFRESH-INTERVAL;VALUE=DURATION:PT1H
X-Robots-Tag:noindex
X-PUBLISHED-TTL:PT1H
BEGIN:VTIMEZONE
TZID:America/Vancouver
BEGIN:DAYLIGHT
TZOFFSETFROM:-0800
TZOFFSETTO:-0700
TZNAME:PDT
DTSTART:20210314T100000
END:DAYLIGHT
BEGIN:STANDARD
TZOFFSETFROM:-0700
TZOFFSETTO:-0800
TZNAME:PST
DTSTART:20211107T090000
END:STANDARD
BEGIN:DAYLIGHT
TZOFFSETFROM:-0800
TZOFFSETTO:-0700
TZNAME:PDT
DTSTART:20220313T100000
END:DAYLIGHT
BEGIN:STANDARD
TZOFFSETFROM:-0700
TZOFFSETTO:-0800
TZNAME:PST
DTSTART:20221106T090000
END:STANDARD
BEGIN:DAYLIGHT
TZOFFSETFROM:-0800
TZOFFSETTO:-0700
TZNAME:PDT
DTSTART:20230312T100000
END:DAYLIGHT
BEGIN:STANDARD
TZOFFSETFROM:-0700
TZOFFSETTO:-0800
TZNAME:PST
DTSTART:20231105T090000
END:STANDARD
END:VTIMEZONE
BEGIN:VEVENT
DTSTART;VALUE=DATE:20220730
DTEND;VALUE=DATE:20220801
DTSTAMP:20260423T062338
CREATED:20220516T023233Z
LAST-MODIFIED:20220705T163416Z
UID:1527-1659139200-1659311999@jetaabc.ca
SUMMARY:Powell Street Festival
DESCRIPTION:From the Powell Street Festival website: \n\n\n\nThis year’s Powell Street Festival takes place Saturday\, July 30th and Sunday\, July 31st in Oppenheimer Park and surrounding neighbourhood!  \nPowell Street Festival is one of the largest and the longest-running community arts festivals in Canada\, located in Vancouver’s historic Japanese Canadian neighbourhood\, Paueru Gai – today known as the Downtown Eastside. Celebrate with a weekend of exciting programming\, musical and theatrical performances\, a bustling marketplace\, and your favourite festival foods. \n\nJETAABC will have a table at this festival to spread the word about the JET Programme. If you would like to volunteer at our Community Booth on July 30th\, please click here to sign up. \nAdditionally\, JETAABC is participating in the Powell Street Festival charity lottery. Prizes include a staycation\, a dinner & music package\, books\, artwork\, and much more. Purchase tickets online anytime up to Sunday\, July 31st; please use the code jetaabc so our organization benefits from some of the proceeds.
URL:https://jetaabc.ca/event/powell-street-festival/
LOCATION:Oppenheimer Park\, 400 Powell Street\, Vancouver\, BC\, V6A 1G6
CATEGORIES:Community,Cultural
END:VEVENT
END:VCALENDAR