BEGIN:VCALENDAR
VERSION:2.0
PRODID:-//JETAABC - ECPv6.15.20//NONSGML v1.0//EN
CALSCALE:GREGORIAN
METHOD:PUBLISH
X-ORIGINAL-URL:https://jetaabc.ca
X-WR-CALDESC:Events for JETAABC
REFRESH-INTERVAL;VALUE=DURATION:PT1H
X-Robots-Tag:noindex
X-PUBLISHED-TTL:PT1H
BEGIN:VTIMEZONE
TZID:America/Vancouver
BEGIN:DAYLIGHT
TZOFFSETFROM:-0800
TZOFFSETTO:-0700
TZNAME:PDT
DTSTART:20210314T100000
END:DAYLIGHT
BEGIN:STANDARD
TZOFFSETFROM:-0700
TZOFFSETTO:-0800
TZNAME:PST
DTSTART:20211107T090000
END:STANDARD
BEGIN:DAYLIGHT
TZOFFSETFROM:-0800
TZOFFSETTO:-0700
TZNAME:PDT
DTSTART:20220313T100000
END:DAYLIGHT
BEGIN:STANDARD
TZOFFSETFROM:-0700
TZOFFSETTO:-0800
TZNAME:PST
DTSTART:20221106T090000
END:STANDARD
BEGIN:DAYLIGHT
TZOFFSETFROM:-0800
TZOFFSETTO:-0700
TZNAME:PDT
DTSTART:20230312T100000
END:DAYLIGHT
BEGIN:STANDARD
TZOFFSETFROM:-0700
TZOFFSETTO:-0800
TZNAME:PST
DTSTART:20231105T090000
END:STANDARD
END:VTIMEZONE
BEGIN:VEVENT
DTSTART;VALUE=DATE:20220903
DTEND;VALUE=DATE:20220905
DTSTAMP:20260423T032045
CREATED:20220516T023451Z
LAST-MODIFIED:20220810T221224Z
UID:1531-1662163200-1662335999@jetaabc.ca
SUMMARY:Nikkei Matsuri
DESCRIPTION:From the Nikkei Matsuri website: Nikkei Matsuri is Burnaby’s authentic family-friendly Japanese festival celebrating Japanese culture. Proceeds benefit Nikkei National Museum & Cultural Centre. \nIf you are interested in volunteering and supporting the success of the event\, please sign up here.
URL:https://jetaabc.ca/event/nikkei-matsuri/
LOCATION:Nikkei National Museum & Cultural Centre\, 6688 Southoaks Crescent\, Burnaby\, BC\, Canada
CATEGORIES:Community,Cultural
ATTACH;FMTTYPE=image/jpeg:https://jetaabc.ca/wp-content/uploads/2022/07/Nikkei-Matsuri-illustration-without-text-smaller-1.jpg
END:VEVENT
BEGIN:VEVENT
DTSTART;TZID=America/Vancouver:20220910T110000
DTEND;TZID=America/Vancouver:20220910T180000
DTSTAMP:20260423T032045
CREATED:20220905T053832Z
LAST-MODIFIED:20220905T053832Z
UID:1722-1662807600-1662832800@jetaabc.ca
SUMMARY:Japan Market
DESCRIPTION:The Fall 2022 Japan Market will be on Saturday\, September 10th\, 11 am – 6pm\, at the Yaletown Roundhouse!\nPurchase your ticket in advance online. 16 and under are free! \nWhile this event isn’t affiliated with JETAABC\, one of our board members will be an artwork vendor.
URL:https://jetaabc.ca/event/japan-market-2/
LOCATION:Yaletown Roundhouse Community Arts & Recreation Centre\, 181 Roundhouse Mews\, Vancouver\, V6Z 2W3\, Canada
CATEGORIES:Community
ATTACH;FMTTYPE=image/png:https://jetaabc.ca/wp-content/uploads/2022/09/Screen-Shot-2022-09-04-at-10.37.32-PM.png
END:VEVENT
END:VCALENDAR