BEGIN:VCALENDAR
VERSION:2.0
PRODID:-//JETAABC - ECPv6.15.20//NONSGML v1.0//EN
CALSCALE:GREGORIAN
METHOD:PUBLISH
X-WR-CALNAME:JETAABC
X-ORIGINAL-URL:https://jetaabc.ca
X-WR-CALDESC:Events for JETAABC
REFRESH-INTERVAL;VALUE=DURATION:PT1H
X-Robots-Tag:noindex
X-PUBLISHED-TTL:PT1H
BEGIN:VTIMEZONE
TZID:America/Vancouver
BEGIN:DAYLIGHT
TZOFFSETFROM:-0800
TZOFFSETTO:-0700
TZNAME:PDT
DTSTART:20210314T100000
END:DAYLIGHT
BEGIN:STANDARD
TZOFFSETFROM:-0700
TZOFFSETTO:-0800
TZNAME:PST
DTSTART:20211107T090000
END:STANDARD
BEGIN:DAYLIGHT
TZOFFSETFROM:-0800
TZOFFSETTO:-0700
TZNAME:PDT
DTSTART:20220313T100000
END:DAYLIGHT
BEGIN:STANDARD
TZOFFSETFROM:-0700
TZOFFSETTO:-0800
TZNAME:PST
DTSTART:20221106T090000
END:STANDARD
BEGIN:DAYLIGHT
TZOFFSETFROM:-0800
TZOFFSETTO:-0700
TZNAME:PDT
DTSTART:20230312T100000
END:DAYLIGHT
BEGIN:STANDARD
TZOFFSETFROM:-0700
TZOFFSETTO:-0800
TZNAME:PST
DTSTART:20231105T090000
END:STANDARD
END:VTIMEZONE
BEGIN:VEVENT
DTSTART;TZID=America/Vancouver:20221009T100000
DTEND;TZID=America/Vancouver:20221009T140000
DTSTAMP:20260423T020320
CREATED:20221009T011406Z
LAST-MODIFIED:20221009T011543Z
UID:1798-1665309600-1665324000@jetaabc.ca
SUMMARY:Nikkei Garden Farmers Market
DESCRIPTION:** Community event unaffiliated with JETAABC **\n\nJune – October 2022 | 2nd & 4th Sundays | 10am-2pm\n\n\n\n\nNikkei Garden Farmers Market “産地直送”\n\n\n\n\n\n\nNikkei Garden Farmers Market is returning for its second season this summer! Stroll through the booths of fresh and locally grown produce\, deliciously prepared food\, uniquely crafted by local makers\, all while enjoying the Japanese garden and its seasonal beauty. Last year\, NGFM was a wonderful gathering place for friends and families all summer long at this relaxed Sunday location. Get your hands on Japanese/Japanese-inspired food and goods at this market located in the heart of Burnaby. \nOPEN on the second and fourth Sundays of each month through October! \nInterested in becoming a vendor?  Here is some information about becoming a vendor. If you have any questions\, please send us an email at event@nikkeiplace.org \nNikkei Farmers Market is a member of the BC Association of Farmers’ Markets\, BCAFM. Click HERE to see BC Farmers’ Market Trail.
URL:https://jetaabc.ca/event/nikkei-garden-farmers-market/
LOCATION:Nikkei National Museum & Cultural Centre\, 6688 Southoaks Crescent\, Burnaby\, BC\, Canada
CATEGORIES:Community
ATTACH;FMTTYPE=image/jpeg:https://jetaabc.ca/wp-content/uploads/2022/10/NGFM_FeatureImage_2.jpg
END:VEVENT
BEGIN:VEVENT
DTSTART;TZID=America/Vancouver:20221016T110000
DTEND;TZID=America/Vancouver:20221016T140000
DTSTAMP:20260423T020320
CREATED:20220919T190624Z
LAST-MODIFIED:20221003T235823Z
UID:1749-1665918000-1665928800@jetaabc.ca
SUMMARY:Fall Imoni-Kai
DESCRIPTION:Join us at our annual Imoni-Kai\, a treasured tradition from Yamagata Prefecture that’s enjoyed and held throughout the Tohoku region of Japan. Enjoy hearty taro root stew with friends old and new! \nSign up here! \nhttps://forms.gle/Y67EXYNq2itXCoTo8
URL:https://jetaabc.ca/event/imoni-kai/
LOCATION:Central Park\, 3883 Imperial Street\, Burnaby\, BC\, Canada
CATEGORIES:Alumni,Community,Cultural,For Fun,Social
ATTACH;FMTTYPE=image/png:https://jetaabc.ca/wp-content/uploads/2022/09/imoni-kai.png
END:VEVENT
BEGIN:VEVENT
DTSTART;TZID=America/Vancouver:20221021T110000
DTEND;TZID=America/Vancouver:20221021T150000
DTSTAMP:20260423T020320
CREATED:20221002T053404Z
LAST-MODIFIED:20221009T011655Z
UID:1769-1666350000-1666364400@jetaabc.ca
SUMMARY:Tonari Gumi Fall Bazaar
DESCRIPTION:** Community event unaffiliated with JETAABC ** \nPlease join us at Tonari Gumi for 2022 Fall Bazaar on Friday\, October 21st\, 11:00am-3:00pm! \nEveryone’s favorite Manju\, Inari\, Crafts\, Japanese tea ceremony utensils\, Japanese Art\, Japanese dolls and Kimono will be sold.
URL:https://jetaabc.ca/event/tonari-gumi-fall-bazaar/
LOCATION:Tonari Gumi Japanese Community Volunteers Association\, 101-42 West 8th Avenue\, Vancouver\, British Columbia\, V5Y 1M7\, Canada
CATEGORIES:Community,Cultural
ATTACH;FMTTYPE=image/png:https://jetaabc.ca/wp-content/uploads/2022/10/Screen-Shot-2022-10-01-at-10.33.16-PM.png
END:VEVENT
BEGIN:VEVENT
DTSTART;TZID=America/Vancouver:20221023T100000
DTEND;TZID=America/Vancouver:20221023T140000
DTSTAMP:20260423T020320
CREATED:20221009T011537Z
LAST-MODIFIED:20221009T011537Z
UID:1802-1666519200-1666533600@jetaabc.ca
SUMMARY:Nikkei Garden Farmers Market
DESCRIPTION:** Community event unaffiliated with JETAABC **\n\nJune – October 2022 | 2nd & 4th Sundays | 10am-2pm\n\n\n\n\nNikkei Garden Farmers Market “産地直送”\n\n\n\n\n\n\nNikkei Garden Farmers Market is returning for its second season this summer! Stroll through the booths of fresh and locally grown produce\, deliciously prepared food\, uniquely crafted by local makers\, all while enjoying the Japanese garden and its seasonal beauty. Last year\, NGFM was a wonderful gathering place for friends and families all summer long at this relaxed Sunday location. Get your hands on Japanese/Japanese-inspired food and goods at this market located in the heart of Burnaby. \nOPEN on the second and fourth Sundays of each month through October! \nInterested in becoming a vendor?  Here is some information about becoming a vendor. If you have any questions\, please send us an email at event@nikkeiplace.org \nNikkei Farmers Market is a member of the BC Association of Farmers’ Markets\, BCAFM. Click HERE to see BC Farmers’ Market Trail.
URL:https://jetaabc.ca/event/nikkei-garden-farmers-market-2/
LOCATION:Nikkei National Museum & Cultural Centre\, 6688 Southoaks Crescent\, Burnaby\, BC\, Canada
CATEGORIES:Community
END:VEVENT
BEGIN:VEVENT
DTSTART;TZID=America/Vancouver:20221025T190000
DTEND;TZID=America/Vancouver:20221025T200000
DTSTAMP:20260423T020320
CREATED:20220903T034643Z
LAST-MODIFIED:20220926T044909Z
UID:1707-1666724400-1666728000@jetaabc.ca
SUMMARY:Yomi-Kai: A Conversation with Hiromi Goto
DESCRIPTION:Join us as we invite author Hiromi Goto to share insight about her anthology\, Hopeful Monsters. Please register here to attend this particular meeting.\n\nGeneral Schedule for the evening will be as follows:\n\n\n\n\n7:00 pm – 7:30 pm : Pre-discussion about Hopeful Monster as a group\n7:30 pm – 7:45 pm : Author Hiromi Goto will join us with a brief introduction and will be reading two short stories\n7:45 pm – 8:00 pm : Commentary\n8:00 pm – 8:15 pm : Q&A and Closing Remarks\n\nIf you have any questions about the evening and/or if you have any questions you would like to ask Ms. Goto\, please send them to karmila@jetaabc.ca. Depending on time\, we may be able to accept questions on the day but we cannot guarantee that your questions will be addressed.\n\n\n\n\n\nClick here for Hiromi Goto’s website to peruse to learn more about her.
URL:https://jetaabc.ca/event/yomi-kai-a-conversation-with-hiromi-goto/
LOCATION:Online (Zoom)
CATEGORIES:Community,Cultural,Social
ATTACH;FMTTYPE=image/png:https://jetaabc.ca/wp-content/uploads/2022/09/464edc38-439a-421a-821b-9d56b6909e07.png
END:VEVENT
BEGIN:VEVENT
DTSTART;TZID=America/Vancouver:20221028T180000
DTEND;TZID=America/Vancouver:20221028T233000
DTSTAMP:20260423T020320
CREATED:20221001T222456Z
LAST-MODIFIED:20221001T222456Z
UID:1766-1666980000-1666999800@jetaabc.ca
SUMMARY:Welcome Back Social
DESCRIPTION:Come and meet the new JET returnees in style with our Welcome Back Social and Karaoke Nijikai! \nDate: Friday\, October 28th\n(RSVP Deadline: Monday\, October 24)\n\nDinner Time: 6:00pm\nLocation: Guu Original (838 Thurlow Street\, Vancouver)\nCost: purchase of own drinks/food (JETAABC will cover some light appetizers)\nMenu here\n\nKaraoke Nijikai: 8:30pm\nLocation: Fantacity (1133 Robson St\, Vancouver)\nCost: approx. $10 per person (subject to change based on numbers RSVP’d)\n\nIf you have any questions\, please contact Danielle.
URL:https://jetaabc.ca/event/welcome-back-social/
LOCATION:Downtown Vancouver
CATEGORIES:Alumni,Community,For Fun,Social
ATTACH;FMTTYPE=image/png:https://jetaabc.ca/wp-content/uploads/2022/10/Welcome-Back-Social-2022.png
END:VEVENT
END:VCALENDAR