BEGIN:VCALENDAR
VERSION:2.0
PRODID:-//JETAABC - ECPv6.15.20//NONSGML v1.0//EN
CALSCALE:GREGORIAN
METHOD:PUBLISH
X-WR-CALNAME:JETAABC
X-ORIGINAL-URL:https://jetaabc.ca
X-WR-CALDESC:Events for JETAABC
REFRESH-INTERVAL;VALUE=DURATION:PT1H
X-Robots-Tag:noindex
X-PUBLISHED-TTL:PT1H
BEGIN:VTIMEZONE
TZID:America/Vancouver
BEGIN:DAYLIGHT
TZOFFSETFROM:-0800
TZOFFSETTO:-0700
TZNAME:PDT
DTSTART:20210314T100000
END:DAYLIGHT
BEGIN:STANDARD
TZOFFSETFROM:-0700
TZOFFSETTO:-0800
TZNAME:PST
DTSTART:20211107T090000
END:STANDARD
BEGIN:DAYLIGHT
TZOFFSETFROM:-0800
TZOFFSETTO:-0700
TZNAME:PDT
DTSTART:20220313T100000
END:DAYLIGHT
BEGIN:STANDARD
TZOFFSETFROM:-0700
TZOFFSETTO:-0800
TZNAME:PST
DTSTART:20221106T090000
END:STANDARD
BEGIN:DAYLIGHT
TZOFFSETFROM:-0800
TZOFFSETTO:-0700
TZNAME:PDT
DTSTART:20230312T100000
END:DAYLIGHT
BEGIN:STANDARD
TZOFFSETFROM:-0700
TZOFFSETTO:-0800
TZNAME:PST
DTSTART:20231105T090000
END:STANDARD
END:VTIMEZONE
BEGIN:VEVENT
DTSTART;TZID=America/Vancouver:20221106T190000
DTEND;TZID=America/Vancouver:20221106T200000
DTSTAMP:20260423T005124
CREATED:20221018T010433Z
LAST-MODIFIED:20221018T010533Z
UID:1820-1667761200-1667764800@jetaabc.ca
SUMMARY:Metro Vancouver Japan Bowl Info Session
DESCRIPTION:The Metro Vancouver Japan Bowl® is a wonderful opportunity for local high school students to experience Japanese language and culture. If you’d like to join in the fun of planning and executing the event in March 2023\, please attend our information session on Sunday\, November 6th at 7pm on Zoom. \nEven if you can’t attend at that time\, please use the link below to register your interest in volunteering. \nSign Up
URL:https://jetaabc.ca/event/metro-vancouver-japan-bowl-info-session/
LOCATION:Online (Zoom)
CATEGORIES:Community,Volunteer
ATTACH;FMTTYPE=image/png:https://jetaabc.ca/wp-content/uploads/2022/10/Facebook-Cover-Image-2023A.png
END:VEVENT
END:VCALENDAR