BEGIN:VCALENDAR
VERSION:2.0
PRODID:-//JETAABC - ECPv6.15.20//NONSGML v1.0//EN
CALSCALE:GREGORIAN
METHOD:PUBLISH
X-ORIGINAL-URL:https://jetaabc.ca
X-WR-CALDESC:Events for JETAABC
REFRESH-INTERVAL;VALUE=DURATION:PT1H
X-Robots-Tag:noindex
X-PUBLISHED-TTL:PT1H
BEGIN:VTIMEZONE
TZID:America/Vancouver
BEGIN:DAYLIGHT
TZOFFSETFROM:-0800
TZOFFSETTO:-0700
TZNAME:PDT
DTSTART:20220313T100000
END:DAYLIGHT
BEGIN:STANDARD
TZOFFSETFROM:-0700
TZOFFSETTO:-0800
TZNAME:PST
DTSTART:20221106T090000
END:STANDARD
BEGIN:DAYLIGHT
TZOFFSETFROM:-0800
TZOFFSETTO:-0700
TZNAME:PDT
DTSTART:20230312T100000
END:DAYLIGHT
BEGIN:STANDARD
TZOFFSETFROM:-0700
TZOFFSETTO:-0800
TZNAME:PST
DTSTART:20231105T090000
END:STANDARD
BEGIN:DAYLIGHT
TZOFFSETFROM:-0800
TZOFFSETTO:-0700
TZNAME:PDT
DTSTART:20240310T100000
END:DAYLIGHT
BEGIN:STANDARD
TZOFFSETFROM:-0700
TZOFFSETTO:-0800
TZNAME:PST
DTSTART:20241103T090000
END:STANDARD
END:VTIMEZONE
BEGIN:VEVENT
DTSTART;TZID=America/Vancouver:20230117T190000
DTEND;TZID=America/Vancouver:20230117T200000
DTSTAMP:20260422T222057
CREATED:20230108T021043Z
LAST-MODIFIED:20230108T021043Z
UID:1982-1673982000-1673985600@jetaabc.ca
SUMMARY:January Yomi-Kai
DESCRIPTION:This month we will read Kaiji Motojiro’s “Lemon\,” and find out why people left lemons at a storefront in Kyoto. Click here to join us on Tuesday\, January 17th at 7pm over Zoom. \nIf you wish to get monthly news and updates outside of our JETAABC newsletter\, please sign up here to join JETAABC Yomi-Kai.
URL:https://jetaabc.ca/event/january-yomi-kai/
LOCATION:Online (Zoom)
CATEGORIES:Alumni,Community,Cultural,For Fun,Social
ATTACH;FMTTYPE=image/png:https://jetaabc.ca/wp-content/uploads/2023/01/Post-Box.png
END:VEVENT
BEGIN:VEVENT
DTSTART;TZID=America/Vancouver:20230128T140000
DTEND;TZID=America/Vancouver:20230128T153000
DTSTAMP:20260422T222057
CREATED:20230104T195903Z
LAST-MODIFIED:20230104T195903Z
UID:1936-1674914400-1674919800@jetaabc.ca
SUMMARY:2023 Edomae Presentation
DESCRIPTION:Come join us at the upcoming presentation by Mr. Takuta Hikita. \n\nMr. Hikita is a former auctioneer of high-end fish at Tsukiji Market for over 10 years.  Combined with a Marine Sciences degree\, he became an expert in the luxury seafood market. When he first moved to Vancouver in 2018\, he realized that he couldn’t find the types of fish that his family loved to eat in Japan. So\, he decided to start his own company to share his passion for these Japanese fish and bring them into Vancouver market.  He delivers the the freshest seasonal ingredients from Japan (‘shun no sakana’) to restaurants and vendors across the city.\n\nThis is a free\, joint event organized by JCCOC & JETAABC.\n\nRegister here. Deadline: Friday\, January 27th\, 2023. \nDate: Saturday\, January 28th\, 2022\nTime: 2:00 – 3:30 pm (Doors open 1:45 pm)\nLocation: UBC Acadia Park Commonsblock (2707 Tennis Crescent\, Vancouver\, BC V6T 1S1) \nParking information: All parking spots in UBC Acadia Park are either reserved for residents or to be purchased hourly. Payment can be made through the Honk Mobile App or at pay machines and meters with cash and credit cards. The weekend rate for the closest parking is $1 per 30 minutes (Honk Mobile Zone 5618). \nFor questions\, please reach out to Tai.
URL:https://jetaabc.ca/event/2023-edomae-presentation/
LOCATION:UBC Acadia Park\, 2707 Tennis Crescent\, Vancouver\, BC\, V6T 1S1\, Canada
CATEGORIES:Community,Cultural
ATTACH;FMTTYPE=image/jpeg:https://jetaabc.ca/wp-content/uploads/2023/01/323879560_709224813920945_1796459944371575542_n.jpeg
END:VEVENT
END:VCALENDAR