BEGIN:VCALENDAR
VERSION:2.0
PRODID:-//JETAABC - ECPv6.15.20//NONSGML v1.0//EN
CALSCALE:GREGORIAN
METHOD:PUBLISH
X-ORIGINAL-URL:https://jetaabc.ca
X-WR-CALDESC:Events for JETAABC
REFRESH-INTERVAL;VALUE=DURATION:PT1H
X-Robots-Tag:noindex
X-PUBLISHED-TTL:PT1H
BEGIN:VTIMEZONE
TZID:America/Vancouver
BEGIN:DAYLIGHT
TZOFFSETFROM:-0800
TZOFFSETTO:-0700
TZNAME:PDT
DTSTART:20220313T100000
END:DAYLIGHT
BEGIN:STANDARD
TZOFFSETFROM:-0700
TZOFFSETTO:-0800
TZNAME:PST
DTSTART:20221106T090000
END:STANDARD
BEGIN:DAYLIGHT
TZOFFSETFROM:-0800
TZOFFSETTO:-0700
TZNAME:PDT
DTSTART:20230312T100000
END:DAYLIGHT
BEGIN:STANDARD
TZOFFSETFROM:-0700
TZOFFSETTO:-0800
TZNAME:PST
DTSTART:20231105T090000
END:STANDARD
BEGIN:DAYLIGHT
TZOFFSETFROM:-0800
TZOFFSETTO:-0700
TZNAME:PDT
DTSTART:20240310T100000
END:DAYLIGHT
BEGIN:STANDARD
TZOFFSETFROM:-0700
TZOFFSETTO:-0800
TZNAME:PST
DTSTART:20241103T090000
END:STANDARD
END:VTIMEZONE
BEGIN:VEVENT
DTSTART;VALUE=DATE:20230204
DTEND;VALUE=DATE:20230206
DTSTAMP:20260422T205603
CREATED:20221221T010003Z
LAST-MODIFIED:20230119T175140Z
UID:1918-1675468800-1675641599@jetaabc.ca
SUMMARY:JET Ski 2023
DESCRIPTION:JET Ski is back with our first in-person\, tri-chapter event since 2020! ☃️ Meet us February 4–5\, 2023 in Seattle as we reconnect with our friends across JETAABC\, JETAA Portland\, and PNWJETAA.  We are excited to enjoy a day of snow sports\, good food\, and fun in Seattle! \nSee this page for more information. The registration deadline is January 28th\, 2023.
URL:https://jetaabc.ca/event/jet-ski-2023/
LOCATION:Seattle\, Washington
CATEGORIES:Alumni,Community,For Fun,Social
ATTACH;FMTTYPE=image/png:https://jetaabc.ca/wp-content/uploads/2022/12/Screen-Shot-2022-12-20-at-1.00.09-PM.png
END:VEVENT
BEGIN:VEVENT
DTSTART;TZID=America/Vancouver:20230228T190000
DTEND;TZID=America/Vancouver:20230228T200000
DTSTAMP:20260422T205603
CREATED:20230130T001924Z
LAST-MODIFIED:20230130T001924Z
UID:2010-1677610800-1677614400@jetaabc.ca
SUMMARY:February Yomi-Kai
DESCRIPTION:This month we will read Japan’s First Nobel Prize Winner Yasunari Kawabata‘s “The Pomegranate.” Click here to join us over Zoom. \nIf you wish to get monthly news and updates about our Yomi-Kai outside of our JETAABC newsletter\, please sign up here.
URL:https://jetaabc.ca/event/february-yomi-kai/
LOCATION:Online (Zoom)
CATEGORIES:Alumni,Community,Cultural
ATTACH;FMTTYPE=image/png:https://jetaabc.ca/wp-content/uploads/2023/01/February.png
END:VEVENT
END:VCALENDAR